BEGIN:VCALENDAR
VERSION:2.0
PRODID:-//Das LernTeam - ECPv6.15.20//NONSGML v1.0//EN
CALSCALE:GREGORIAN
METHOD:PUBLISH
X-WR-CALNAME:Das LernTeam
X-ORIGINAL-URL:https://lernteam.de
X-WR-CALDESC:Veranstaltungen für Das LernTeam
REFRESH-INTERVAL;VALUE=DURATION:PT1H
X-Robots-Tag:noindex
X-PUBLISHED-TTL:PT1H
BEGIN:VTIMEZONE
TZID:Europe/Berlin
BEGIN:DAYLIGHT
TZOFFSETFROM:+0100
TZOFFSETTO:+0200
TZNAME:CEST
DTSTART:20250330T010000
END:DAYLIGHT
BEGIN:STANDARD
TZOFFSETFROM:+0200
TZOFFSETTO:+0100
TZNAME:CET
DTSTART:20251026T010000
END:STANDARD
BEGIN:DAYLIGHT
TZOFFSETFROM:+0100
TZOFFSETTO:+0200
TZNAME:CEST
DTSTART:20260329T010000
END:DAYLIGHT
BEGIN:STANDARD
TZOFFSETFROM:+0200
TZOFFSETTO:+0100
TZNAME:CET
DTSTART:20261025T010000
END:STANDARD
BEGIN:DAYLIGHT
TZOFFSETFROM:+0100
TZOFFSETTO:+0200
TZNAME:CEST
DTSTART:20270328T010000
END:DAYLIGHT
BEGIN:STANDARD
TZOFFSETFROM:+0200
TZOFFSETTO:+0100
TZNAME:CET
DTSTART:20271031T010000
END:STANDARD
END:VTIMEZONE
BEGIN:VEVENT
DTSTART;VALUE=DATE:20260808
DTEND;VALUE=DATE:20260830
DTSTAMP:20260420T021934
CREATED:20221014T135352Z
LAST-MODIFIED:20251206T103936Z
UID:46306-1786147200-1788047999@lernteam.de
SUMMARY:LernTeam-Feriencamp Schloss Brannenburg Sommer 2026
DESCRIPTION:Schloss Brannenburg ist seit vielen Jahren einer unserer beliebtesten LernTeam-Standorte – eingebettet in die atemberaubende Berglandschaft des Inntals und umgeben von weiten Wiesen und ruhigen Lernorten. Die besondere Atmosphäre des Schlosses bietet ideale Bedingungen für konzentriertes Arbeiten\, kreative Lernmethoden und erlebnisreiche Freizeit. \nUnsere Teilnehmenden erwartet eine Woche voller Motivation\, moderner Lernstrategien und echter Lernerfolge – kombiniert mit Bewegung\, Naturerlebnissen und abwechslungsreichen Aktivitäten rund um das Schloss. Die geräumigen Seminarräume\, die großzügigen Außenflächen und die familiäre Atmosphäre vor Ort sorgen dafür\, dass sich Kinder und Jugendliche schnell wohlfühlen. \nDas LernTeam ist seit vielen Jahren regelmäßig zu Gast in Brannenburg und schätzt besonders die hervorragende Betreuung vor Ort\, die zuverlässige Organisation und die idealen Rahmenbedingungen für intensive Lernwochen. Gemeinsam schaffen wir ein motivierendes Umfeld\, in dem Schülerinnen und Schüler gestärkt\, selbstbewusst und gut vorbereitet in das neue Schuljahr starten. \n[vc_btn title=”Informationen und Buchung” style=”custom” custom_background=”#f74e00″ custom_text=”#ffffff” shape=”square” size=”lg” align=”left” i_icon_fontawesome=”fa fa-paw” css_animation=”left-to-right” link=”url:http%3A%2F%2Fwww.lernteam.de%2Fferiencamps%2Fschloss-brannenburg%2F||” add_icon=”true”]
URL:https://lernteam.de/event/lernteam-feriencamp-schloss-brannenburg-sommer-2026/
LOCATION:Schloss Brannenburg\, Schloßstraße\, Brannenburg\, Bayern\, 83098\, Deutschland
CATEGORIES:Englisch-Camp,Feriencamp,Fit für den Übertritt,Motivations-Camp
ATTACH;FMTTYPE=image/jpeg:https://lernteam.de/wp-content/uploads/2024/10/Brannenburg-2025.jpg
END:VEVENT
BEGIN:VEVENT
DTSTART;VALUE=DATE:20260829
DTEND;VALUE=DATE:20260913
DTSTAMP:20260420T021934
CREATED:20220906T162423Z
LAST-MODIFIED:20251023T202934Z
UID:46119-1787961600-1789257599@lernteam.de
SUMMARY:Feriencamp Starnberger See Sommer 2026
DESCRIPTION:[vc_btn title=”Informationen und Buchung” style=”custom” custom_background=”#f74e00″ custom_text=”#ffffff” shape=”square” size=”lg” align=”left” i_icon_fontawesome=”fa fa-paw” css_animation=”left-to-right” link=”url:http%3A%2F%2Fwww.lernteam.de%2Fferiencamps%2Fstarnberger-see%2F||” add_icon=”true”]
URL:https://lernteam.de/event/feriencamp-starnberger-see-sommer-2026/
LOCATION:Jugendherberge Possenhofen\, Kurt-Stieler-Str. 18\, 82343 Pöcking\, Deutschland
CATEGORIES:Englisch-Camp,Feriencamp,Fit für den Übertritt,Motivations-Camp
ATTACH;FMTTYPE=image/jpeg:https://lernteam.de/wp-content/uploads/2024/10/Possenhofen_2025.jpg
END:VEVENT
BEGIN:VEVENT
DTSTART;TZID=Europe/Berlin:20261107T080000
DTEND;TZID=Europe/Berlin:20261107T170000
DTSTAMP:20260420T021934
CREATED:20260121T143554Z
LAST-MODIFIED:20260121T143554Z
UID:51404-1794038400-1794070800@lernteam.de
SUMMARY:GernLern Seminar St. Virgil
DESCRIPTION:GernLern Seminar St. Virgil
URL:https://lernteam.de/event/gernlern-seminar-st-virgil/
LOCATION:Salzburg
END:VEVENT
END:VCALENDAR